BEGIN:VCALENDAR
VERSION:2.0
PRODID:-//Kursy masażu dla amatorów i profesjonalistów PIOTR HARMOZA - ECPv6.15.20//NONSGML v1.0//EN
CALSCALE:GREGORIAN
METHOD:PUBLISH
X-ORIGINAL-URL:https://kurs-masazu.com.pl
X-WR-CALDESC:Wydarzenia dla Kursy masażu dla amatorów i profesjonalistów PIOTR HARMOZA
REFRESH-INTERVAL;VALUE=DURATION:PT1H
X-Robots-Tag:noindex
X-PUBLISHED-TTL:PT1H
BEGIN:VTIMEZONE
TZID:Europe/Warsaw
BEGIN:DAYLIGHT
TZOFFSETFROM:+0100
TZOFFSETTO:+0200
TZNAME:CEST
DTSTART:20250330T010000
END:DAYLIGHT
BEGIN:STANDARD
TZOFFSETFROM:+0200
TZOFFSETTO:+0100
TZNAME:CET
DTSTART:20251026T010000
END:STANDARD
BEGIN:DAYLIGHT
TZOFFSETFROM:+0100
TZOFFSETTO:+0200
TZNAME:CEST
DTSTART:20260329T010000
END:DAYLIGHT
BEGIN:STANDARD
TZOFFSETFROM:+0200
TZOFFSETTO:+0100
TZNAME:CET
DTSTART:20261025T010000
END:STANDARD
BEGIN:DAYLIGHT
TZOFFSETFROM:+0100
TZOFFSETTO:+0200
TZNAME:CEST
DTSTART:20270328T010000
END:DAYLIGHT
BEGIN:STANDARD
TZOFFSETFROM:+0200
TZOFFSETTO:+0100
TZNAME:CET
DTSTART:20271031T010000
END:STANDARD
END:VTIMEZONE
BEGIN:VEVENT
DTSTART;TZID=Europe/Warsaw:20260509T100000
DTEND;TZID=Europe/Warsaw:20260510T180000
DTSTAMP:20260424T182103
CREATED:20260319T161020Z
LAST-MODIFIED:20260319T161020Z
UID:12549-1778320800-1778436000@kurs-masazu.com.pl
SUMMARY:Spec Odnowy Biologicznej I stopnia Mazury cz2
DESCRIPTION:Kurs Masażu Kobido i Odnowy Biologicznej Mazury | Flaga Meta cz.2. \n  3 techniki 4 certyfikaty FlagaMeta \n  \nZostań Specjalistą Odnowy Biologicznej I Stopnia. Kurs Kobido i Harmonic Spa & Kontrast w Hotelu Tajty Mazury \n https://maps.app.goo.gl/DRnMaU3PibnCjoag8 \nPraktyka\, mentoring i certyfikacja Flaga Meta \nZapisz się! https://kurs-masazu.com.pl/kurs-masazu-hotel-tajty-mazury/ \nPrzekrocz granice zwykłego masażu. Zostań Specjalistą Odnowy Biologicznej I Stopnia „Tajty” \nCzy czujesz\, że Twoje dłonie potrafią więcej\, ale brakuje im systemu\, który połączy wiedzę o ciele z głęboką regeneracją?\nWiększość kursów uczy schematów. My uczymy sprawczości. Zapraszam Cię do serca Mazur\, do Hotelu Tajty\, gdzie podczas intensywnego procesu mentoringowego opanujesz unikalny model Flaga Meta. To nie jest kolejne szkolenie z „klepania” twarzy – to Twoja nowa droga zawodowa.\nDlaczego to szkolenie zmieni Twój sposób pracy?\nW świecie zdominowanym przez powtarzalne zabiegi\, klienci szukają rezultatów i autentyczności.\n* Praktyka ponad teorię: Zapomnij o slajdach. Całą teorię dostajesz w e-booku\, a na miejscu skupiamy się wyłącznie na czuciu tkanki.\n* Holistyczny ekosystem: Łączymy twarz (Kobido)\, głowę (Tsuki Yamamoto) i ciało (Harmonic SPA).\n* Elitarna grupa: Tylko 6 miejsc. To gwarancja\, że każdą technikę skoryguję osobiście pod Twoją rękę.\nProgram transformacji (Dwa etapy) \nETAP I: Fundament i Neurologia (11–12.04.2026) cz1 \n* Kobido Basic: Kultowy\, japoński liftingujący masaż twarzy w najbardziej skutecznej formie.\n* Tsuki Yamamoto: Refleksologia głowy oparta na strefach somatotopowych. Nauczysz się uwalniać napięcia neurologiczne\, o których inni nawet nie wiedzą. \nETAP II: Zaawansowana Odnowa i Kontrast (09–10.05.2026)\n* Kobido – Model Mięśniowo-Limfatyczny: Wyższy poziom rzeźbienia twarzy i pracy z obrzękami.\n* Harmonic SPA & Kontrast: Miodowy detoks\, kule solne i termoterapia. Nauczysz się zarządzać układem nerwowym klienta poprzez biochemię i temperaturę (odnowa biologiczna i sportowa).\nInwestycja w Twoją Markę Premium\nPełny program szkoleniowy\, 4 dni intensywnej praktyki oraz kompletna opieka:\n* Cena standardowa: 4250 zł\n*  BONUS ZA DECYZYJNOŚĆ: Wpłać całość do 02.04.2026\, a cena spadnie o 325 zł. Twoja inwestycja to wtedy tylko 3925 zł (kwota rabatu pokrywa koszt jednego noclegu!).\nCo otrzymujesz w cenie?\n* 4 dni szkoleniowe pod okiem Piotra Harmozy.\n* 2 noclegi w Hotelu Tajty (pokoje 2-osobowe).\n* Pełne wyżywienie (śniadania i obiadokolacje).\n* Materiały szkoleniowe i mentoring po kursie.\n* 4 prestiżowe certyfikaty potwierdzające Twoje unikalne kompetencje.\n> Warto wiedzieć: Jeśli zdecydujesz się zostać z nami dłużej lub przyjechać dzień wcześniej\, otrzymasz dodatkowy bonus: E-book „Wykorzystanie peptydów w masażu i kosmetyce twarzy”.\n>\nTwój Mentor: Piotr Harmoza\nTerapeuta\, fizjoterapeuta\, twórca modelu Flaga Meta\nNie jestem teoretykiem z certyfikatem „instruktora” kupionym na weekendowym kursie. Jestem praktykiem\, który codziennie pracuje z bólem i napięciem w gabinecie w Gdańsku.\nStworzyłem system Flaga Meta\, ponieważ wierzę\, że dobry terapeuta to taki\, który nie tylko „chce”\, ale posiada zamiar i sprawczość. Moje nazwisko zobowiązuje – prowadzę Cię do harmonii poprzez wiedzę\, dotyk i autorskie narzędzia terapeutyczne. \nInformacje Prawne i Rezerwacja\nGwarancja miejsca: Rezerwacja następuje po wpłacie zaliczki w wysokości 300 zł.\nPrzejrzyste zasady (Regulamin w pigułce):\n* Bezpieczeństwo rezygnacji: Do 02.04.2026 zwracamy 100% wpłaconych kwot. Po tym terminie zaliczka jest bezzwrotna (istnieje możliwość przeniesienia miejsca na inną osobę).\n* Charakter certyfikacji: Wydawane dokumenty są certyfikatami prywatnymi Szkoły Flaga Meta. Potwierdzają one Twoje realne\, zweryfikowane egzaminem umiejętności manualne. Nie są dokumentami państwowymi/medycznymi w rozumieniu przepisów MEN/NFZ.\n* Odpowiedzialność: Uczestnik oświadcza\, że nie posiada przeciwwskazań zdrowotnych i bierze udział w szkoleniu (również jako model do ćwiczeń) na własną odpowiedzialność. \nCzy jesteś gotowy(a) wejść na poziom Flaga Meta?\nLiczba miejsc jest ściśle ograniczona do 6 osób. Decyduje kolejność zgłoszeń.\n Zapisz się teraz: https://kurs-masazu.com.pl/kurs-masazu-hotel-tajty-mazury/\n Masz pytania? Zadzwoń bezpośrednio:\nPiotr Harmoza: 513 818 977
URL:https://kurs-masazu.com.pl/szkolenie/spec-odnowy-biologicznej-i-stopnia-mazury-cz2/
LOCATION:hotel Tajty Mazury\, Przemysłowa 17\, Wilkasy\, 11-500
ATTACH;FMTTYPE=image/jpeg:https://kurs-masazu.com.pl/wp-content/uploads/2026/03/baner-tajty.jpg
END:VEVENT
BEGIN:VEVENT
DTSTART;TZID=Europe/Warsaw:20260516T100000
DTEND;TZID=Europe/Warsaw:20260517T200000
DTSTAMP:20260424T182103
CREATED:20251023T074244Z
LAST-MODIFIED:20260319T154414Z
UID:2394-1778925600-1779048000@kurs-masazu.com.pl
SUMMARY:Kurs hawajskiego masażu Lomi Lomi Nui -Mazury 16-17.05.2026
DESCRIPTION:🌺 Hawajski Masaż Powięziowy Lomi Lomi Nui – Kurs Transformacji\nMiejsce: Hotel Tajty (Mazury) https://maps.app.goo.gl/DRnMaU3PibnCjoag8 \nData: 16–17.05.2026 (Sobota – Niedziela) \nProwadzący: Harmoza Piotr   (fizjoterapeuta\, praktyk od 1990 r.) \nOdkryj moc „Miękkiej łapy zadowolonego kota”\nZapraszamy na wyjątkowy\, dwudniowy kurs masażu Lomi Lomi Nui – głębokiej terapii powięziowej\, która transformuje nie tylko ciało pacjenta\, ale i duszę terapeuty. W malowniczej scenerii Mazur\, w kameralnej grupie (do 6 osób)\, nauczysz się sztuki dotyku\, która uwalnia emocje\, znosi blokady i ładuje „akumulatory endorfin”. \nCo zyskasz podczas szkolenia?\n\n\nUnikalny warsztat techniczny: Praca na powięziach\, autorski model pracy na kończynie górnej (od grzbietu po palce) oraz wprowadzenie do technik wisceralnych (chiropraktyka brzucha w modelu Lomi). \n\n\nFilozofia i Energetyka: Nauka oddechu Piko Piko\, taniec „Zwierzęcia Mocy”\, hawajskie zasady Aloha oraz technika zamiany „chcę” na „zamierzam”. \n\n\nGłęboka regeneracja: To nie tylko nauka\, to Twoja własna podróż po spokój i euforię. \n\n\n\nProgram szkolenia obejmuje:\n\n\nKrok Fregaty i taniec energetyczny. \n\n\nPraca powięziowa na „ścieżkach żywiołów” (Ziemia\, Niebo\, Wiatr\, Ogień). \n\n\nPełne sekwencje masażu w leżeniu na brzuchu i plecach. \n\n\nOtwieranie i zamykanie aury („kołderka”). \n\n\nMedytacje mocy i generowanie intencji. \n\n\n\nInwestycja i Logistyka:\nSzkolenie obejmuje 2 dni kursu oraz 1 nocleg w Hotelu Tajty:.https://maps.app.goo.gl/DRnMaU3PibnCjoag8 \n\n\nOpcja PROMOCYJNA (Przedpłata całości): \n2125 zł – cena obowiązuje przy wpłacie całości na min. 20 dni przed kursem. \nW cenie: szkolenie\, nocleg\, śniadanie\, obiadokolacja\, nielimitowany dostęp do strefy SPA i basenu. \n\n\nOpcja STANDARDOWA (Zaliczka): \n2400 zł – przy wpłacie zaliczki 300 zł w celu rezerwacji miejsca. Pozostała kwota płatna zgodnie z ustaleniami. \n\n\nCertyfikat: Po ukończeniu kursu i egzaminie otrzymasz certyfikat FlagaMeta Tajty – krok do specjalisty odnowy biologicznej Tajty  \n\nInformacje organizacyjne:\n\n\nZapisy: Rezerwacja miejsca następuje po wpłacie zaliczki 300 zł (lub całości dla rabatu) systemem BLIK na nr: 513 818 977. \n\n\nDane do faktury: Po wpłacie prześlij SMS-em dane (NIP\, e-mail\, tytuł kursu) na powyższy numer. \n\n\nKontakt: Masz pytania? Zadzwoń lub napisz SMS: 513 818 977 (Piotr Harmoza). Prosimy nie pisać maili ani wiadomości na Messengerze. \n\n\nZainwestuj w siebie i dołącz do rodziny hawajskich terapeutów Lomi Aloha!
URL:https://kurs-masazu.com.pl/szkolenie/kurs-hawajskiego-masazu-lomi-lomi-nui-gdansk/
LOCATION:hotel Tajty Mazury\, Przemysłowa 17\, Wilkasy\, 11-500
ATTACH;FMTTYPE=image/jpeg:https://kurs-masazu.com.pl/wp-content/uploads/2025/10/kurs-masazu-Lomi-LomiTajty-Mazury.jpg
END:VEVENT
BEGIN:VEVENT
DTSTART;TZID=Europe/Warsaw:20260604T100000
DTEND;TZID=Europe/Warsaw:20260606T180000
DTSTAMP:20260424T182103
CREATED:20250216T112419Z
LAST-MODIFIED:20260314T123957Z
UID:1839-1780567200-1780768800@kurs-masazu.com.pl
SUMMARY:kurs masażu Specjalista odnowy biologicznej I stopnia Uniejów: 3 techniki: -Kobido basic-Tsuki Yamamoto Harmonic Spa
DESCRIPTION:Kurs Uniejów 04/06 06 2026  intensywny 3 dniowy  3000 zł lub 2700 przy wcześniejszym akcesie \n\nZostań Specjalistą Odnowy Biologicznej\nFLAGA META – I STOPNIA UNIEJÓW\nKurs 3 Masaży Wellness\nPodczas szkolenia poznasz trzy wyjątkowe techniki pracy z ciałem\, które obejmują twarz\, głowę i ciało. Dzięki temu zbudujesz kompletny warsztat terapeuty i specjalisty od odnowy biologicznej. \nProgram kursu\nKobido Basic\nJapoński masaż twarzy łączący relaks\, lifting i głębokie wyciszenie układu nerwowego.\nTechnika poprawia napięcie skóry\, pobudza krążenie i daje naturalny efekt odmłodzenia. \nTsuki Yamamoto\nRefleksoryczny masaż głowy oparty na pracy ze strefami somatotopicznymi.\nTechnika wykorzystywana jako uzupełnienie terapii manualnych twarzy i głowy. \nHarmonic Spa & Kontrast\nTechnika wellness masażu ciała wykorzystująca naturalne bodźce: \n\nmiód\nsól mineralną\nkontrast temperatury: ciepło – zimno\n\nZabieg pobudza krążenie\, wspiera detoks skóry i daje głębokie odprężenie całego ciała. \n\nCo zyskasz na kursie\n✔ kompletny warsztat pracy z twarzą\, głową i ciałem\n✔ praktyczne techniki masażu wellness\n✔ umiejętności wyróżniające Cię na rynku usług\n✔ nowe zabiegi do wprowadzenia w gabinecie \n\nDla kogo jest ten kurs\nSzkolenie jest przeznaczone dla: \n\nmasażystów\nkosmetologów\nterapeutów manualnych\nosób zaczynających pracę z masażem\nterapeutów pracy z ciałem\n\n\nCzas trwania\nIntensywny kurs 3-dniowy \n\nInstruktor\nSzkolenie prowadzi\nHarmoza Piotr \nterapeuta manualny i twórca metod pracy FlagaMeta. \n\nCertyfikat\nPo ukończeniu szkolenia otrzymasz certyfikat: \n„Specjalista Odnowy Biologicznej FLAGA META – I Stopnia” \n\nChcesz zorganizować szkolenie w swojej miejscowości?\nZadzwoń i zapytaj o termin. \n  \n\nZostań Specjalistą Odnowy Biologicznej\nFLAGA META – I STOPNIA\n3 dni szkolenia • twarz • głowa • ciało\nRynek masażu i terapii manualnych zmienia się bardzo szybko.\nKlienci szukają dziś zabiegów\, które działają głęboko – na ciało i układ nerwowy\, a nie tylko powierzchownie na skórę. \nDlatego powstało szkolenie: \nSpecjalista Odnowy Biologicznej FLAGA META – I stopnia \nTo intensywny\, trzydniowy program\, który daje Ci kompletny warsztat pracy z człowiekiem: \n✔ twarz\n✔ głowa\n✔ ciało \nPo tym szkoleniu będziesz potrafił wprowadzić do swojego gabinetu trzy bardzo poszukiwane zabiegi. \n\nDzień 1\nKOBIDO BASIC – Japoński Lifting Bez Skalpela\nKobido to jedna z najbardziej zaawansowanych technik masażu twarzy na świecie. \nTen masaż: \n• poprawia owal twarzy\n• pobudza krążenie skóry\n• rozluźnia napięcia mięśni mimicznych\n• działa liftingująco i relaksacyjnie \nPodczas szkolenia nauczysz się kompletnego protokołu zabiegu Kobido Basic\, który możesz od razu wprowadzić do swojej oferty. \nTo zabieg\, którego klienci szukają\, ponieważ daje naturalny efekt liftingu bez ingerencji medycyny estetycznej. \n\nDzień 2\nTSUKI YAMAMOTO – Masaż Głowy i Regulacja Układu Nerwowego\nDrugi dzień to praca z głową i czaszką. \nTechnika Tsuki Yamamoto opiera się na pracy ze strefami somatotopicznymi głowy. \nPodczas szkolenia nauczysz się: \n• pracy na napięciach czaszkowych\n• technik rozluźniania napięć psychosomatycznych\n• metod regulacji układu nerwowego\n• wprowadzania klienta w głęboki stan regeneracji \nTen masaż często przynosi klientom: \n✔ głębokie wyciszenie\n✔ redukcję napięć\n✔ uczucie lekkości w głowie i karku \nJest to doskonałe uzupełnienie terapii twarzy i masażu Kobido. \n\nDzień 3\nHarmonic Spa & Kontrast – Polska Terapia Detoksykacyjna\nTrzeci dzień to autorska metoda pracy z ciałem. \nTechnika Harmonic Spa & Kontrast opiera się na naturalnych bodźcach terapeutycznych: \n• ciepła bryła soli mineralnej\n• zimny lód\n• naturalny polski miód \nKontrast temperatury ciepło – zimno pobudza krążenie\, regeneruje mięśnie i uruchamia naturalne procesy naprawcze organizmu. \nPodczas szkolenia poznasz: \n• technikę masażu kontrastowego\n• zastosowanie miodu w detoksie skóry\n• proces osmozy w terapii przezskórnej\n• zastosowanie żelu solnego w regeneracji mięśni \nTo zabieg szczególnie ceniony przez: \n✔ sportowców\n✔ osoby zestresowane\n✔ klientów potrzebujących głębokiej regeneracji \n\nCo daje Ci to szkolenie\nPo kursie potrafisz wykonywać 3 kompletne zabiegi: \n1️⃣ Kobido Basic – lifting twarzy\n2️⃣ Tsuki Yamamoto – masaż głowy i regulacja napięć\n3️⃣ Harmonic Spa & Kontrast – regeneracja ciała \nDzięki temu Twoja oferta obejmuje pełną odnowę biologiczną. \n\nSzczegóły szkolenia\nTermin:\n04–06.06.2026\n(czwartek – piątek – sobota) \nLokalizacja:\nUniejów \nCena kursu:\n3000 zł \nCena obejmuje: \n✔ trzy dni szkolenia\n✔ materiały szkoleniowe\n✔ certyfikat \nCena promocyjna:\n2700 zł przy płatności do 25.05.2026 \n\nKameralna grupa\nSzkolenie odbywa się w małej grupie: \nmaksymalnie 6 osób \nDzięki temu każdy uczestnik otrzymuje: \n• dużo praktyki\n• korektę techniki\n• indywidualne wskazówki instruktora \n\nCertyfikat\nPo ukończeniu szkolenia otrzymasz certyfikat: \nSpecjalista Odnowy Biologicznej\nFLAGA META – I Stopnia \n\nZainwestuj w swoje umiejętności\nJeśli pracujesz z ludźmi i chcesz rozwijać się w masażu oraz terapii manualnej – to szkolenie pozwoli Ci rozszerzyć ofertę zabiegów i wyróżnić się na rynku. \n\n☎ Jeśli jesteś zainteresowany szkoleniem lub chcesz zorganizować kurs w swojej miejscowości – skontaktuj się z nami. \n\n  \nCo Zyskasz\, Wybierając Nasz Kurs?\n  \n\nKompleksowe Przygotowanie: Nauczysz się technik masażu\, które są na topie w branży SPA i wellness.\nWiedza od Eksperta: Szkolenie prowadzi Harmoza Piotr\n  instruktor z wieloletnim doświadczeniem w dziedzinie odnowy biologicznej.\nCertyfikat FLAGA META: Potwierdzenie Twoich nowych kwalifikacji\, cenione w branży.\nIntensywna Praktyka: Trzy dni pełne praktycznych zajęć\, dzięki którym poczujesz się pewnie w każdej technice.\n\n\n  \n  \n  \nZapisz się już dziś i dołącz do grona ekspertów FLAGA META!\n\nuczestnik otrzymuje zaświadczenie o uczestnictwie w szkoleniu oraz certyfikat flagaMeta o ukończeniu kursu po zdanym egzaminie\,. W dowolnym terminie . – egzamin bez dodatkowych opłat – możliwość  w trybie online gdy egzamin poparty jest wcześniejszymi filmikami z wykonywanych technik\ncertyfikat flaga Meta nie jest honorowany przez placówki NFZ i placówki systemowe podmiotów leczniczych\nmentoring przez 3 tygodnie od zakończenia szkolenia\ncertyfikat flagaMeta w języku angielskim lub innym -dodatkowa opłata 150 zł.\n\n\n\n\n\n Dodaj do kalendarza
URL:https://kurs-masazu.com.pl/szkolenie/kurs-odnowy-biologicznej-masaz/
LOCATION:Uniejów\, Uniejów
END:VEVENT
END:VCALENDAR